BEGIN:VCALENDAR
VERSION:2.0
PRODID:-//Zoo-phonics - ECPv6.15.20//NONSGML v1.0//EN
CALSCALE:GREGORIAN
METHOD:PUBLISH
X-WR-CALNAME:Zoo-phonics
X-ORIGINAL-URL:https://zoo-phonics.com
X-WR-CALDESC:Events for Zoo-phonics
REFRESH-INTERVAL;VALUE=DURATION:PT1H
X-Robots-Tag:noindex
X-PUBLISHED-TTL:PT1H
BEGIN:VTIMEZONE
TZID:America/Los_Angeles
BEGIN:DAYLIGHT
TZOFFSETFROM:-0800
TZOFFSETTO:-0700
TZNAME:PDT
DTSTART:20240310T100000
END:DAYLIGHT
BEGIN:STANDARD
TZOFFSETFROM:-0700
TZOFFSETTO:-0800
TZNAME:PST
DTSTART:20241103T090000
END:STANDARD
BEGIN:DAYLIGHT
TZOFFSETFROM:-0800
TZOFFSETTO:-0700
TZNAME:PDT
DTSTART:20250309T100000
END:DAYLIGHT
BEGIN:STANDARD
TZOFFSETFROM:-0700
TZOFFSETTO:-0800
TZNAME:PST
DTSTART:20251102T090000
END:STANDARD
BEGIN:DAYLIGHT
TZOFFSETFROM:-0800
TZOFFSETTO:-0700
TZNAME:PDT
DTSTART:20260308T100000
END:DAYLIGHT
BEGIN:STANDARD
TZOFFSETFROM:-0700
TZOFFSETTO:-0800
TZNAME:PST
DTSTART:20261101T090000
END:STANDARD
END:VTIMEZONE
BEGIN:VEVENT
DTSTART;TZID=America/Los_Angeles:20250411T080000
DTEND;TZID=America/Los_Angeles:20250411T130000
DTSTAMP:20260424T073454
CREATED:20250108T230759Z
LAST-MODIFIED:20250108T230759Z
UID:79099-1744358400-1744376400@zoo-phonics.com
SUMMARY:Zoo-phonics ZooM Virtual Workshop ~Friday\, April 11\, 2025 Pacific Standard Time
DESCRIPTION:Buy Your Ticket
URL:https://zoo-phonics.com/workshop-training/041125/
LOCATION:Zoo-phonics\, PST Time\, CA\, United States
CATEGORIES:Comprehensive One-Day Workshops
ORGANIZER;CN="Zoo-phonics":MAILTO:info@zoo-phonics.com
END:VEVENT
END:VCALENDAR