BEGIN:VCALENDAR
VERSION:2.0
PRODID:-//Zoo-phonics - ECPv6.15.20//NONSGML v1.0//EN
CALSCALE:GREGORIAN
METHOD:PUBLISH
X-WR-CALNAME:Zoo-phonics
X-ORIGINAL-URL:https://zoo-phonics.com
X-WR-CALDESC:Events for Zoo-phonics
REFRESH-INTERVAL;VALUE=DURATION:PT1H
X-Robots-Tag:noindex
X-PUBLISHED-TTL:PT1H
BEGIN:VTIMEZONE
TZID:America/Los_Angeles
BEGIN:DAYLIGHT
TZOFFSETFROM:-0800
TZOFFSETTO:-0700
TZNAME:PDT
DTSTART:20240310T100000
END:DAYLIGHT
BEGIN:STANDARD
TZOFFSETFROM:-0700
TZOFFSETTO:-0800
TZNAME:PST
DTSTART:20241103T090000
END:STANDARD
BEGIN:DAYLIGHT
TZOFFSETFROM:-0800
TZOFFSETTO:-0700
TZNAME:PDT
DTSTART:20250309T100000
END:DAYLIGHT
BEGIN:STANDARD
TZOFFSETFROM:-0700
TZOFFSETTO:-0800
TZNAME:PST
DTSTART:20251102T090000
END:STANDARD
BEGIN:DAYLIGHT
TZOFFSETFROM:-0800
TZOFFSETTO:-0700
TZNAME:PDT
DTSTART:20260308T100000
END:DAYLIGHT
BEGIN:STANDARD
TZOFFSETFROM:-0700
TZOFFSETTO:-0800
TZNAME:PST
DTSTART:20261101T090000
END:STANDARD
BEGIN:DAYLIGHT
TZOFFSETFROM:-0800
TZOFFSETTO:-0700
TZNAME:PDT
DTSTART:20270314T100000
END:DAYLIGHT
BEGIN:STANDARD
TZOFFSETFROM:-0700
TZOFFSETTO:-0800
TZNAME:PST
DTSTART:20271107T090000
END:STANDARD
END:VTIMEZONE
BEGIN:VEVENT
DTSTART;TZID=America/Los_Angeles:20250814T080000
DTEND;TZID=America/Los_Angeles:20250814T130000
DTSTAMP:20260424T100015
CREATED:20250507T191236Z
LAST-MODIFIED:20250507T193815Z
UID:80230-1755158400-1755176400@zoo-phonics.com
SUMMARY:Zoo-phonics ZooM Virtual Workshop ~Thursday\, August 14\, 2025 Pacific Time
DESCRIPTION:Buy Your Ticket – $99 Per Person
URL:https://zoo-phonics.com/workshop-training/081425/
LOCATION:Zoo-phonics\, PST Time\, CA\, United States
CATEGORIES:Comprehensive One-Day Workshops
ORGANIZER;CN="Zoo-phonics":MAILTO:info@zoo-phonics.com
END:VEVENT
BEGIN:VEVENT
DTSTART;TZID=America/Los_Angeles:20250815T073000
DTEND;TZID=America/Los_Angeles:20250815T103000
DTSTAMP:20260424T100015
CREATED:20250507T220127Z
LAST-MODIFIED:20250507T220127Z
UID:80271-1755243000-1755253800@zoo-phonics.com
SUMMARY:ZooM Part 2/Advance Training ~ Friday\, August 15\, 2025 Pacific Time
DESCRIPTION:Buy Your Ticket – $59 Per Person
URL:https://zoo-phonics.com/workshop-training/081525-pt-2/
LOCATION:Zoo-phonics\, PST Time\, CA\, United States
CATEGORIES:Advanced Part II Workshops
ORGANIZER;CN="Zoo-phonics":MAILTO:info@zoo-phonics.com
END:VEVENT
BEGIN:VEVENT
DTSTART;TZID=America/Los_Angeles:20250826T080000
DTEND;TZID=America/Los_Angeles:20250826T130000
DTSTAMP:20260424T100015
CREATED:20250507T205147Z
LAST-MODIFIED:20250710T151918Z
UID:80249-1756195200-1756213200@zoo-phonics.com
SUMMARY:Zoo-phonics ZooM Virtual Workshop ~Tuesday\, August 26\, 2025 Pacific Time
DESCRIPTION:Buy Your Ticket – $99 Per Person
URL:https://zoo-phonics.com/workshop-training/082625/
LOCATION:Zoo-phonics\, PST Time\, CA\, United States
CATEGORIES:Comprehensive One-Day Workshops
ORGANIZER;CN="Zoo-phonics":MAILTO:info@zoo-phonics.com
END:VEVENT
BEGIN:VEVENT
DTSTART;TZID=America/Los_Angeles:20250912T080000
DTEND;TZID=America/Los_Angeles:20250912T130000
DTSTAMP:20260424T100015
CREATED:20250507T210123Z
LAST-MODIFIED:20250507T210550Z
UID:80256-1757664000-1757682000@zoo-phonics.com
SUMMARY:Zoo-phonics ZooM Virtual Workshop ~Friday\, September 12\, 2025 Pacific Time
DESCRIPTION:Buy Your Ticket – $99 Per Person
URL:https://zoo-phonics.com/workshop-training/091225/
LOCATION:Zoo-phonics\, PST Time\, CA\, United States
CATEGORIES:Comprehensive One-Day Workshops
ORGANIZER;CN="Zoo-phonics":MAILTO:info@zoo-phonics.com
END:VEVENT
BEGIN:VEVENT
DTSTART;TZID=America/Los_Angeles:20250926T070000
DTEND;TZID=America/Los_Angeles:20250926T120000
DTSTAMP:20260424T100015
CREATED:20250507T213939Z
LAST-MODIFIED:20250807T180008Z
UID:80263-1758870000-1758888000@zoo-phonics.com
SUMMARY:Zoo-phonics ZooM Virtual Workshop ~Friday\, September 26\, 2025 Pacific Time
DESCRIPTION:Buy Your Ticket – $99 Per Person
URL:https://zoo-phonics.com/workshop-training/092625/
LOCATION:Zoo-phonics\, PST Time\, CA\, United States
CATEGORIES:Comprehensive One-Day Workshops
ORGANIZER;CN="Zoo-phonics":MAILTO:info@zoo-phonics.com
END:VEVENT
BEGIN:VEVENT
DTSTART;TZID=America/Los_Angeles:20250927T073000
DTEND;TZID=America/Los_Angeles:20250927T123000
DTSTAMP:20260424T100015
CREATED:20250808T153122Z
LAST-MODIFIED:20250808T153122Z
UID:81424-1758958200-1758976200@zoo-phonics.com
SUMMARY:Zoo-phonics ZooM Virtual Workshop ~Saturday\, September 27\, 2025 Pacific Time
DESCRIPTION:Buy Your Ticket – $99 Per Person
URL:https://zoo-phonics.com/workshop-training/092725/
LOCATION:Zoo-phonics\, PST Time\, CA\, United States
CATEGORIES:Comprehensive One-Day Workshops
ORGANIZER;CN="Zoo-phonics":MAILTO:info@zoo-phonics.com
END:VEVENT
BEGIN:VEVENT
DTSTART;TZID=America/Los_Angeles:20251009T080000
DTEND;TZID=America/Los_Angeles:20251009T130000
DTSTAMP:20260424T100015
CREATED:20250507T215357Z
LAST-MODIFIED:20250507T215357Z
UID:80267-1759996800-1760014800@zoo-phonics.com
SUMMARY:Zoo-phonics ZooM Virtual Workshop ~Thursday\, October 9\, 2025 Pacific Time
DESCRIPTION:Buy Your Ticket – $99 Per Person
URL:https://zoo-phonics.com/workshop-training/100925/
LOCATION:Zoo-phonics\, PST Time\, CA\, United States
CATEGORIES:Comprehensive One-Day Workshops
ORGANIZER;CN="Zoo-phonics":MAILTO:info@zoo-phonics.com
END:VEVENT
BEGIN:VEVENT
DTSTART;TZID=America/Los_Angeles:20251024T073000
DTEND;TZID=America/Los_Angeles:20251024T123000
DTSTAMP:20260424T100015
CREATED:20250902T183134Z
LAST-MODIFIED:20251015T183151Z
UID:81966-1761291000-1761309000@zoo-phonics.com
SUMMARY:Zoo-phonics ZooM Virtual Workshop ~ Friday\, October 24\, 2025
DESCRIPTION:Buy Your Ticket – $99 Per Person
URL:https://zoo-phonics.com/workshop-training/102425/
LOCATION:Zoo-phonics\, PST Time\, CA\, United States
CATEGORIES:Comprehensive One-Day Workshops
ORGANIZER;CN="Zoo-phonics":MAILTO:info@zoo-phonics.com
END:VEVENT
BEGIN:VEVENT
DTSTART;TZID=America/Los_Angeles:20251112T080000
DTEND;TZID=America/Los_Angeles:20251112T130000
DTSTAMP:20260424T100015
CREATED:20250902T183921Z
LAST-MODIFIED:20250902T185341Z
UID:81970-1762934400-1762952400@zoo-phonics.com
SUMMARY:Zoo-phonics ZooM Virtual Workshop ~Wednesday\, November 12\, 2025
DESCRIPTION:Buy Your Ticket – $99 Per Person
URL:https://zoo-phonics.com/workshop-training/111225/
LOCATION:Zoo-phonics\, PST Time\, CA\, United States
CATEGORIES:Comprehensive One-Day Workshops
ORGANIZER;CN="Zoo-phonics":MAILTO:info@zoo-phonics.com
END:VEVENT
BEGIN:VEVENT
DTSTART;TZID=America/Los_Angeles:20251205T080000
DTEND;TZID=America/Los_Angeles:20251205T130000
DTSTAMP:20260424T100015
CREATED:20250902T185729Z
LAST-MODIFIED:20250902T185729Z
UID:81972-1764921600-1764939600@zoo-phonics.com
SUMMARY:Zoo-phonics ZooM Virtual Workshop ~Friday\, December 5\, 2025
DESCRIPTION:Buy Your Ticket – $99 Per Person
URL:https://zoo-phonics.com/workshop-training/120525/
LOCATION:Zoo-phonics\, PST Time\, CA\, United States
CATEGORIES:Comprehensive One-Day Workshops
ORGANIZER;CN="Zoo-phonics":MAILTO:info@zoo-phonics.com
END:VEVENT
BEGIN:VEVENT
DTSTART;TZID=America/Los_Angeles:20251206T073000
DTEND;TZID=America/Los_Angeles:20251206T123000
DTSTAMP:20260424T100015
CREATED:20251007T223931Z
LAST-MODIFIED:20251007T223931Z
UID:82613-1765006200-1765024200@zoo-phonics.com
SUMMARY:Zoo-phonics ZooM Virtual Workshop ~ Saturday\, December 6\, 2025
DESCRIPTION:Buy Your Ticket – $99 Per Person
URL:https://zoo-phonics.com/workshop-training/120625/
LOCATION:Zoo-phonics\, PST Time\, CA\, United States
CATEGORIES:Comprehensive One-Day Workshops
ORGANIZER;CN="Zoo-phonics":MAILTO:info@zoo-phonics.com
END:VEVENT
BEGIN:VEVENT
DTSTART;TZID=America/Los_Angeles:20260116T073000
DTEND;TZID=America/Los_Angeles:20260116T103000
DTSTAMP:20260424T100015
CREATED:20250903T170007Z
LAST-MODIFIED:20250903T170354Z
UID:82016-1768548600-1768559400@zoo-phonics.com
SUMMARY:ZooM Part 2/Advance Training ~ Friday\, January 16\, 2026 Pacific Time
DESCRIPTION:Buy Your Ticket – $59 Per Person
URL:https://zoo-phonics.com/workshop-training/011626/
LOCATION:Zoo-phonics\, PST Time\, CA\, United States
CATEGORIES:Advanced Part II Workshops
ORGANIZER;CN="Zoo-phonics":MAILTO:info@zoo-phonics.com
END:VEVENT
BEGIN:VEVENT
DTSTART;TZID=America/Los_Angeles:20260130T080000
DTEND;TZID=America/Los_Angeles:20260130T130000
DTSTAMP:20260424T100015
CREATED:20250902T190447Z
LAST-MODIFIED:20251212T163021Z
UID:81976-1769760000-1769778000@zoo-phonics.com
SUMMARY:Zoo-phonics ZooM Virtual Workshop ~ Friday\, January 30\, 2026
DESCRIPTION:Buy Your Ticket – $99 Per Person
URL:https://zoo-phonics.com/workshop-training/013026/
LOCATION:Zoo-phonics\, PST Time\, CA\, United States
CATEGORIES:Comprehensive One-Day Workshops
ORGANIZER;CN="Zoo-phonics":MAILTO:info@zoo-phonics.com
END:VEVENT
BEGIN:VEVENT
DTSTART;TZID=America/Los_Angeles:20260131T073000
DTEND;TZID=America/Los_Angeles:20260131T123000
DTSTAMP:20260424T100015
CREATED:20250903T163933Z
LAST-MODIFIED:20250903T163933Z
UID:82010-1769844600-1769862600@zoo-phonics.com
SUMMARY:Zoo-phonics ZooM Virtual Workshop ~ Saturday\, January 31\, 2026
DESCRIPTION:Buy Your Ticket – $99 Per Person
URL:https://zoo-phonics.com/workshop-training/013126/
LOCATION:Zoo-phonics\, PST Time\, CA\, United States
CATEGORIES:Comprehensive One-Day Workshops
ORGANIZER;CN="Zoo-phonics":MAILTO:info@zoo-phonics.com
END:VEVENT
BEGIN:VEVENT
DTSTART;TZID=America/Los_Angeles:20260227T080000
DTEND;TZID=America/Los_Angeles:20260227T130000
DTSTAMP:20260424T100015
CREATED:20251118T173841Z
LAST-MODIFIED:20251118T175348Z
UID:83156-1772179200-1772197200@zoo-phonics.com
SUMMARY:Zoo-phonics ZooM Virtual Workshop ~ Friday\, February 27\, 2026
DESCRIPTION:Buy Your Ticket – $99 Per Person
URL:https://zoo-phonics.com/workshop-training/022726/
LOCATION:Zoo-phonics\, PST Time\, CA\, United States
CATEGORIES:Comprehensive One-Day Workshops
ORGANIZER;CN="Zoo-phonics":MAILTO:info@zoo-phonics.com
END:VEVENT
BEGIN:VEVENT
DTSTART;TZID=America/Los_Angeles:20260319T080000
DTEND;TZID=America/Los_Angeles:20260319T130000
DTSTAMP:20260424T100015
CREATED:20251118T175806Z
LAST-MODIFIED:20251118T175806Z
UID:83159-1773907200-1773925200@zoo-phonics.com
SUMMARY:Zoo-phonics ZooM Virtual Workshop ~ Thursday\, March 19\, 2026
DESCRIPTION:Buy Your Ticket – $99 Per Person
URL:https://zoo-phonics.com/workshop-training/031926/
LOCATION:Zoo-phonics\, PST Time\, CA\, United States
CATEGORIES:Comprehensive One-Day Workshops
ORGANIZER;CN="Zoo-phonics":MAILTO:info@zoo-phonics.com
END:VEVENT
BEGIN:VEVENT
DTSTART;TZID=America/Los_Angeles:20260507T080000
DTEND;TZID=America/Los_Angeles:20260507T130000
DTSTAMP:20260424T100015
CREATED:20260107T190434Z
LAST-MODIFIED:20260107T190434Z
UID:83475-1778140800-1778158800@zoo-phonics.com
SUMMARY:Zoo-phonics ZooM Virtual Workshop ~ Thursday\, May 7\, 2026
DESCRIPTION:Buy Your Ticket – $99 Per Person
URL:https://zoo-phonics.com/workshop-training/050726/
LOCATION:Zoo-phonics\, PST Time\, CA\, United States
CATEGORIES:Comprehensive One-Day Workshops
ORGANIZER;CN="Zoo-phonics":MAILTO:info@zoo-phonics.com
END:VEVENT
BEGIN:VEVENT
DTSTART;TZID=America/Los_Angeles:20260601T080000
DTEND;TZID=America/Los_Angeles:20260601T130000
DTSTAMP:20260424T100015
CREATED:20260107T190921Z
LAST-MODIFIED:20260304T182622Z
UID:83479-1780300800-1780318800@zoo-phonics.com
SUMMARY:Zoo-phonics ZooM Virtual Workshop ~ Monday\, June 1\, 2206
DESCRIPTION:Buy Your Ticket – $99 Per Person
URL:https://zoo-phonics.com/workshop-training/060126/
LOCATION:Zoo-phonics\, PST Time\, CA\, United States
CATEGORIES:Comprehensive One-Day Workshops
ORGANIZER;CN="Zoo-phonics":MAILTO:info@zoo-phonics.com
END:VEVENT
BEGIN:VEVENT
DTSTART;TZID=America/Los_Angeles:20260720T080000
DTEND;TZID=America/Los_Angeles:20260720T130000
DTSTAMP:20260424T100015
CREATED:20260107T191346Z
LAST-MODIFIED:20260107T191346Z
UID:83482-1784534400-1784552400@zoo-phonics.com
SUMMARY:Zoo-phonics ZooM Virtual Workshop ~ Monday\, July 20\, 2026
DESCRIPTION:Buy Your Ticket – $99 Per Person
URL:https://zoo-phonics.com/workshop-training/072026/
LOCATION:Zoo-phonics\, PST Time\, CA\, United States
CATEGORIES:Comprehensive One-Day Workshops
ORGANIZER;CN="Zoo-phonics":MAILTO:info@zoo-phonics.com
END:VEVENT
BEGIN:VEVENT
DTSTART;TZID=America/Los_Angeles:20260828T080000
DTEND;TZID=America/Los_Angeles:20260828T130000
DTSTAMP:20260424T100015
CREATED:20260407T162532Z
LAST-MODIFIED:20260407T162532Z
UID:84518-1787904000-1787922000@zoo-phonics.com
SUMMARY:Zoo-phonics ZooM Virtual Workshop ~ Friday\, August 28\, 2026
DESCRIPTION:Buy Your Ticket – $99 Per Person
URL:https://zoo-phonics.com/workshop-training/082826/
LOCATION:Zoo-phonics\, PST Time\, CA\, United States
CATEGORIES:Comprehensive One-Day Workshops
ORGANIZER;CN="Zoo-phonics":MAILTO:info@zoo-phonics.com
END:VEVENT
END:VCALENDAR